BEGIN:VCALENDAR
VERSION:2.0
PRODID:-//Newtown Community Center - ECPv6.15.20//NONSGML v1.0//EN
CALSCALE:GREGORIAN
METHOD:PUBLISH
X-WR-CALNAME:Newtown Community Center
X-ORIGINAL-URL:https://newtowncommunitycenter.org
X-WR-CALDESC:Events for Newtown Community Center
REFRESH-INTERVAL;VALUE=DURATION:PT1H
X-Robots-Tag:noindex
X-PUBLISHED-TTL:PT1H
BEGIN:VTIMEZONE
TZID:America/New_York
BEGIN:DAYLIGHT
TZOFFSETFROM:-0500
TZOFFSETTO:-0400
TZNAME:EDT
DTSTART:20240310T070000
END:DAYLIGHT
BEGIN:STANDARD
TZOFFSETFROM:-0400
TZOFFSETTO:-0500
TZNAME:EST
DTSTART:20241103T060000
END:STANDARD
BEGIN:DAYLIGHT
TZOFFSETFROM:-0500
TZOFFSETTO:-0400
TZNAME:EDT
DTSTART:20250309T070000
END:DAYLIGHT
BEGIN:STANDARD
TZOFFSETFROM:-0400
TZOFFSETTO:-0500
TZNAME:EST
DTSTART:20251102T060000
END:STANDARD
BEGIN:DAYLIGHT
TZOFFSETFROM:-0500
TZOFFSETTO:-0400
TZNAME:EDT
DTSTART:20260308T070000
END:DAYLIGHT
BEGIN:STANDARD
TZOFFSETFROM:-0400
TZOFFSETTO:-0500
TZNAME:EST
DTSTART:20261101T060000
END:STANDARD
END:VTIMEZONE
BEGIN:VEVENT
DTSTART;TZID=America/New_York:20250919T183000
DTEND;TZID=America/New_York:20250919T200000
DTSTAMP:20260425T172516
CREATED:20250829T040616Z
LAST-MODIFIED:20250829T045702Z
UID:9496-1758306600-1758312000@newtowncommunitycenter.org
SUMMARY:Kickin' for a Cause
DESCRIPTION:Kick up your boots (or sneakers) and join us for a night of line dancing! Whether you’re a seasoned dancer or a total beginner\, this event is for everyone. \nLearn classic\, easy-to-follow line dances with Tricia Marino & Elie Zammarieh of Let’s Dance Entertainment. No partner or experience needed\, just come ready to dance and support a great cause! \nAll proceeds benefit Friends of the Newtown Community Center\, supporting: \n\nCamp Scholarships\nCommunity Programs & Events\nEnhancements to the Community Center
URL:https://newtowncommunitycenter.org/event/kickin-for-a-cause/
LOCATION:Newtown Community Center\, 8 Simpson St.\, Newtown\, CT\, 06470\, United States
CATEGORIES:Adult Events
ATTACH;FMTTYPE=image/png:https://newtowncommunitycenter.org/wp-content/uploads/2025/08/Kickin-for-a-Cause-1.png
ORGANIZER;CN="Newtown Community Center":MAILTO:info.ncc@newtown-ct.gov
END:VEVENT
END:VCALENDAR