BEGIN:VCALENDAR
VERSION:2.0
PRODID:-//Newtown Community Center - ECPv6.15.20//NONSGML v1.0//EN
CALSCALE:GREGORIAN
METHOD:PUBLISH
X-ORIGINAL-URL:https://newtowncommunitycenter.org
X-WR-CALDESC:Events for Newtown Community Center
REFRESH-INTERVAL;VALUE=DURATION:PT1H
X-Robots-Tag:noindex
X-PUBLISHED-TTL:PT1H
BEGIN:VTIMEZONE
TZID:America/New_York
BEGIN:DAYLIGHT
TZOFFSETFROM:-0500
TZOFFSETTO:-0400
TZNAME:EDT
DTSTART:20240310T070000
END:DAYLIGHT
BEGIN:STANDARD
TZOFFSETFROM:-0400
TZOFFSETTO:-0500
TZNAME:EST
DTSTART:20241103T060000
END:STANDARD
BEGIN:DAYLIGHT
TZOFFSETFROM:-0500
TZOFFSETTO:-0400
TZNAME:EDT
DTSTART:20250309T070000
END:DAYLIGHT
BEGIN:STANDARD
TZOFFSETFROM:-0400
TZOFFSETTO:-0500
TZNAME:EST
DTSTART:20251102T060000
END:STANDARD
BEGIN:DAYLIGHT
TZOFFSETFROM:-0500
TZOFFSETTO:-0400
TZNAME:EDT
DTSTART:20260308T070000
END:DAYLIGHT
BEGIN:STANDARD
TZOFFSETFROM:-0400
TZOFFSETTO:-0500
TZNAME:EST
DTSTART:20261101T060000
END:STANDARD
BEGIN:DAYLIGHT
TZOFFSETFROM:-0500
TZOFFSETTO:-0400
TZNAME:EDT
DTSTART:20270314T070000
END:DAYLIGHT
BEGIN:STANDARD
TZOFFSETFROM:-0400
TZOFFSETTO:-0500
TZNAME:EST
DTSTART:20271107T060000
END:STANDARD
END:VTIMEZONE
BEGIN:VEVENT
DTSTART;TZID=America/New_York:20251231T110000
DTEND;TZID=America/New_York:20251231T123000
DTSTAMP:20260421T185612
CREATED:20250829T040933Z
LAST-MODIFIED:20251217T193753Z
UID:9541-1767178800-1767184200@newtowncommunitycenter.org
SUMMARY:Noon Years Eve Party
DESCRIPTION:Celebrate the new year without staying up late! Join us for a lively countdown to noon filled with music\, dancing\, and festive crafts. Enjoy snacks\, drinks\, and plenty of fun for the whole family!
URL:https://newtowncommunitycenter.org/event/noon-years-eve/
LOCATION:Newtown Community Center\, 8 Simpson St.\, Newtown\, CT\, 06470\, United States
CATEGORIES:Family Events
ATTACH;FMTTYPE=image/png:https://newtowncommunitycenter.org/wp-content/uploads/2025/08/Noon-Years-Eve-Event-Page.png
ORGANIZER;CN="Newtown Community Center":MAILTO:info.ncc@newtown-ct.gov
END:VEVENT
BEGIN:VEVENT
DTSTART;TZID=America/New_York:20260201T130000
DTEND;TZID=America/New_York:20260201T140000
DTSTAMP:20260421T185612
CREATED:20251217T201437Z
LAST-MODIFIED:20260122T201410Z
UID:9717-1769950800-1769954400@newtowncommunitycenter.org
SUMMARY:Valentine’s for Vets and Troops
DESCRIPTION:Spread some love this Valentine’s Day by creating handmade cards for our Veterans and troops overseas. The Community Center will provide all materials\, and completed cards will be delivered through local veterans’ organizations to brighten the day of those who serve.
URL:https://newtowncommunitycenter.org/event/valentines-for-vets-and-troops/
LOCATION:Newtown Community Center\, 8 Simpson St.\, Newtown\, CT\, 06470\, United States
CATEGORIES:Family Events
ATTACH;FMTTYPE=image/png:https://newtowncommunitycenter.org/wp-content/uploads/2025/12/Valentines-for-Vets-Troops-1.png
ORGANIZER;CN="Newtown Community Center":MAILTO:info.ncc@newtown-ct.gov
END:VEVENT
BEGIN:VEVENT
DTSTART;TZID=America/New_York:20260206T183000
DTEND;TZID=America/New_York:20260206T203000
DTSTAMP:20260421T185612
CREATED:20251217T202229Z
LAST-MODIFIED:20260106T205907Z
UID:9720-1770402600-1770409800@newtowncommunitycenter.org
SUMMARY:Sweetheart Ball
DESCRIPTION:Enjoy an enchanted evening of music and dancing at our Little Sweetheart Dance for young ladies and the special adult in their life. The night includes a free photo booth\, light refreshments\, and a special thank-you gift for each young guest. \n\n\n\nNote: Cost includes one adult and one child. Additional children are $8 each
URL:https://newtowncommunitycenter.org/event/sweetheart-ball/
LOCATION:Newtown Community Center\, 8 Simpson St.\, Newtown\, CT\, 06470\, United States
CATEGORIES:Family Events
ATTACH;FMTTYPE=image/png:https://newtowncommunitycenter.org/wp-content/uploads/2025/12/Sweetheart-Ball-2.png
ORGANIZER;CN="Newtown Community Center":MAILTO:info.ncc@newtown-ct.gov
END:VEVENT
BEGIN:VEVENT
DTSTART;TZID=America/New_York:20260301T130000
DTEND;TZID=America/New_York:20260301T143000
DTSTAMP:20260421T185612
CREATED:20260210T210614Z
LAST-MODIFIED:20260210T211712Z
UID:9761-1772370000-1772375400@newtowncommunitycenter.org
SUMMARY:Puzzle Palooza
DESCRIPTION:Families and friends will team up for a fun\, friendly puzzle race\, with each team using a 300-piece puzzle. Teams of up to four participants\, including at least one adult and one child\, will enjoy snacks\, laughter\, and a bit of friendly competition as they race to finish first\, with a special prize awarded to the winning team. One registrant per team.
URL:https://newtowncommunitycenter.org/event/puzzle-palooza/
LOCATION:Newtown Community Center\, 8 Simpson St.\, Newtown\, CT\, 06470\, United States
CATEGORIES:Family Events
ATTACH;FMTTYPE=image/png:https://newtowncommunitycenter.org/wp-content/uploads/2026/02/Puzzle-2.png
ORGANIZER;CN="Newtown Community Center":MAILTO:info.ncc@newtown-ct.gov
END:VEVENT
BEGIN:VEVENT
DTSTART;TZID=America/New_York:20260320T180000
DTEND;TZID=America/New_York:20260320T193000
DTSTAMP:20260421T185612
CREATED:20260210T211339Z
LAST-MODIFIED:20260210T211843Z
UID:9764-1774029600-1774035000@newtowncommunitycenter.org
SUMMARY:Family Bingo
DESCRIPTION:Families are invited to enjoy an evening of classic Bingo paired with music\, snacks\, and plenty of chances to win prizes. A lively and entertaining event perfect for all ages. \n\n\n\nNote: An adult must participate
URL:https://newtowncommunitycenter.org/event/family-bingo/
LOCATION:Newtown Community Center\, 8 Simpson St.\, Newtown\, CT\, 06470\, United States
CATEGORIES:Family Events
ATTACH;FMTTYPE=image/png:https://newtowncommunitycenter.org/wp-content/uploads/2026/02/Bingo.png
ORGANIZER;CN="Newtown Community Center":MAILTO:info.ncc@newtown-ct.gov
END:VEVENT
BEGIN:VEVENT
DTSTART;TZID=America/New_York:20260328T153000
DTEND;TZID=America/New_York:20260328T173000
DTSTAMP:20260421T185612
CREATED:20260210T212359Z
LAST-MODIFIED:20260210T212409Z
UID:9767-1774711800-1774719000@newtowncommunitycenter.org
SUMMARY:Egg Dive
DESCRIPTION:Participants will splash and race through the pool to collect as many Easter eggs as possible\, all while searching for the golden egg. Join us for a festive spring event filled with excitement and friendly competition. \n\n\n\nNote: Children ages six and under must be accompanied by a parent in the pool. Registration is for a half-hour slot
URL:https://newtowncommunitycenter.org/event/egg-dive/
LOCATION:Newtown Community Center\, 8 Simpson St.\, Newtown\, CT\, 06470\, United States
CATEGORIES:Family Events
ATTACH;FMTTYPE=image/png:https://newtowncommunitycenter.org/wp-content/uploads/2026/02/Egg-Dive.png
ORGANIZER;CN="Newtown Community Center":MAILTO:info.ncc@newtown-ct.gov
END:VEVENT
BEGIN:VEVENT
DTSTART;TZID=America/New_York:20260329T080000
DTEND;TZID=America/New_York:20260329T130000
DTSTAMP:20260421T185612
CREATED:20260210T212930Z
LAST-MODIFIED:20260210T212934Z
UID:9769-1774771200-1774789200@newtowncommunitycenter.org
SUMMARY:Bunny Breakfast
DESCRIPTION:Springtime fun comes to life with a festive breakfast featuring pancakes\, pastries\, coffee\, and orange juice. Families will enjoy crafts and a special visit from the Bunny. \n\n\n\nNote: Tickets are for an hour slot | Professional photos are available for $10\, payable the day of the event
URL:https://newtowncommunitycenter.org/event/bunny-breakfast/
LOCATION:Newtown Community Center\, 8 Simpson St.\, Newtown\, CT\, 06470\, United States
CATEGORIES:Family Events
ATTACH;FMTTYPE=image/png:https://newtowncommunitycenter.org/wp-content/uploads/2026/02/Bunny-Breakfast.png
ORGANIZER;CN="Newtown Community Center":MAILTO:info.ncc@newtown-ct.gov
END:VEVENT
BEGIN:VEVENT
DTSTART;TZID=America/New_York:20260421T140000
DTEND;TZID=America/New_York:20260421T183000
DTSTAMP:20260421T185612
CREATED:20251230T170432Z
LAST-MODIFIED:20260408T155627Z
UID:9737-1776780000-1776796200@newtowncommunitycenter.org
SUMMARY:Indoor Market
DESCRIPTION:Returning for its third season\, our Indoor Market\, sponsored by the Newtown Savings Bank\, showcases talented artists\, makers\, and food vendors. Explore a variety of handmade crafts\, baked goods\, farm-fresh items\, and more. Each market day brings something new. Shop local\, discover unique treasures\, and connect with your community!
URL:https://newtowncommunitycenter.org/event/indoor-market-2/
LOCATION:Newtown Community Center\, 8 Simpson St.\, Newtown\, CT\, 06470\, United States
CATEGORIES:Family Events
ATTACH;FMTTYPE=image/jpeg:https://newtowncommunitycenter.org/wp-content/uploads/2025/12/IMG_6183-scaled.jpg
ORGANIZER;CN="Newtown Community Center":MAILTO:info.ncc@newtown-ct.gov
END:VEVENT
BEGIN:VEVENT
DTSTART;TZID=America/New_York:20260424T180000
DTEND;TZID=America/New_York:20260424T193000
DTSTAMP:20260421T185612
CREATED:20251217T194439Z
LAST-MODIFIED:20260210T205010Z
UID:9708-1777053600-1777059000@newtowncommunitycenter.org
SUMMARY:Family Noodle & WIBIT Night
DESCRIPTION:Dive into a night of fun with tons of pool noodles\, tubes\, and our inflatable WIBIT slide! Each child must be registered and accompanied by an adult. Participants must be 6 or older to use the inflatable\, and non-independent swimmers are required to wear a life jacket. \n\n\n\nNote: An Adult must participate
URL:https://newtowncommunitycenter.org/event/family-noodle-wibit-slide/
LOCATION:Newtown Community Center\, 8 Simpson St.\, Newtown\, CT\, 06470\, United States
CATEGORIES:Family Events
ATTACH;FMTTYPE=image/png:https://newtowncommunitycenter.org/wp-content/uploads/2025/12/3a612e63-0e2d-4520-82b2-bb2630672280.png
ORGANIZER;CN="Newtown Community Center":MAILTO:info.ncc@newtown-ct.gov
END:VEVENT
BEGIN:VEVENT
DTSTART;TZID=America/New_York:20260505T140000
DTEND;TZID=America/New_York:20260505T183000
DTSTAMP:20260421T185612
CREATED:20260408T160251Z
LAST-MODIFIED:20260408T160615Z
UID:9800-1777989600-1778005800@newtowncommunitycenter.org
SUMMARY:Indoor Market
DESCRIPTION:Returning for its third season\, our Indoor Market\, sponsored by the Newtown Savings Bank\, showcases talented artists\, makers\, and food vendors. Explore a variety of handmade crafts\, baked goods\, farm-fresh items\, and more. Each market day brings something new. Shop local\, discover unique treasures\, and connect with your community!
URL:https://newtowncommunitycenter.org/event/indoor-market/
LOCATION:Newtown Community Center\, 8 Simpson St.\, Newtown\, CT\, 06470\, United States
CATEGORIES:Family Events
ATTACH;FMTTYPE=image/jpeg:https://newtowncommunitycenter.org/wp-content/uploads/2025/12/IMG_6183-scaled.jpg
ORGANIZER;CN="Newtown Community Center":MAILTO:info.ncc@newtown-ct.gov
END:VEVENT
BEGIN:VEVENT
DTSTART;TZID=America/New_York:20260519T140000
DTEND;TZID=America/New_York:20260519T183000
DTSTAMP:20260421T185612
CREATED:20260408T160523Z
LAST-MODIFIED:20260408T160524Z
UID:9802-1779199200-1779215400@newtowncommunitycenter.org
SUMMARY:Indoor Market
DESCRIPTION:Returning for its third season\, our Indoor Market\, sponsored by the Newtown Savings Bank\, showcases talented artists\, makers\, and food vendors. Explore a variety of handmade crafts\, baked goods\, farm-fresh items\, and more. Each market day brings something new. Shop local\, discover unique treasures\, and connect with your community!
URL:https://newtowncommunitycenter.org/event/indoor-market-3/
LOCATION:Newtown Community Center\, 8 Simpson St.\, Newtown\, CT\, 06470\, United States
CATEGORIES:Family Events
ATTACH;FMTTYPE=image/jpeg:https://newtowncommunitycenter.org/wp-content/uploads/2025/12/IMG_6183-scaled.jpg
ORGANIZER;CN="Newtown Community Center":MAILTO:info.ncc@newtown-ct.gov
END:VEVENT
BEGIN:VEVENT
DTSTART;TZID=America/New_York:20260531T130000
DTEND;TZID=America/New_York:20260531T143000
DTSTAMP:20260421T185612
CREATED:20260408T161559Z
LAST-MODIFIED:20260409T150935Z
UID:9803-1780232400-1780237800@newtowncommunitycenter.org
SUMMARY:Afternoon Tea Party
DESCRIPTION:Guests will enjoy a relaxing afternoon filled with sweet sips\, light snacks\, and creative fun. Participants will decorate their own flower pot and plant something special to take home\, making for a charming and hands-on springtime experience. Each attendee must be registered.
URL:https://newtowncommunitycenter.org/event/afternoon-tea-party/
LOCATION:Newtown Community Center\, 8 Simpson St.\, Newtown\, CT\, 06470\, United States
CATEGORIES:Family Events
ATTACH;FMTTYPE=image/png:https://newtowncommunitycenter.org/wp-content/uploads/2026/04/tea-party.png
ORGANIZER;CN="Newtown Community Center":MAILTO:info.ncc@newtown-ct.gov
END:VEVENT
END:VCALENDAR