BEGIN:VCALENDAR
VERSION:2.0
PRODID:-//Newtown Community Center - ECPv6.15.20//NONSGML v1.0//EN
CALSCALE:GREGORIAN
METHOD:PUBLISH
X-ORIGINAL-URL:https://newtowncommunitycenter.org
X-WR-CALDESC:Events for Newtown Community Center
REFRESH-INTERVAL;VALUE=DURATION:PT1H
X-Robots-Tag:noindex
X-PUBLISHED-TTL:PT1H
BEGIN:VTIMEZONE
TZID:America/New_York
BEGIN:DAYLIGHT
TZOFFSETFROM:-0500
TZOFFSETTO:-0400
TZNAME:EDT
DTSTART:20240310T070000
END:DAYLIGHT
BEGIN:STANDARD
TZOFFSETFROM:-0400
TZOFFSETTO:-0500
TZNAME:EST
DTSTART:20241103T060000
END:STANDARD
BEGIN:DAYLIGHT
TZOFFSETFROM:-0500
TZOFFSETTO:-0400
TZNAME:EDT
DTSTART:20250309T070000
END:DAYLIGHT
BEGIN:STANDARD
TZOFFSETFROM:-0400
TZOFFSETTO:-0500
TZNAME:EST
DTSTART:20251102T060000
END:STANDARD
BEGIN:DAYLIGHT
TZOFFSETFROM:-0500
TZOFFSETTO:-0400
TZNAME:EDT
DTSTART:20260308T070000
END:DAYLIGHT
BEGIN:STANDARD
TZOFFSETFROM:-0400
TZOFFSETTO:-0500
TZNAME:EST
DTSTART:20261101T060000
END:STANDARD
END:VTIMEZONE
BEGIN:VEVENT
DTSTART;TZID=America/New_York:20251118T140000
DTEND;TZID=America/New_York:20251118T183000
DTSTAMP:20260421T114256
CREATED:20250829T042652Z
LAST-MODIFIED:20250829T044251Z
UID:9544-1763474400-1763490600@newtowncommunitycenter.org
SUMMARY:Indoor Market
DESCRIPTION:Returning for its third season\, our Indoor Market\, sponsored by the Newtown Savings Bank\, showcases talented artists\, makers\, and food vendors. Explore a variety of handmade crafts\, baked goods\, farm-fresh items\, and more. Each market day brings something new. Shop local\, discover unique treasures\, and connect with your community! \nCalling All Vendors!\nInterested in showcasing your products at the Newtown Community Center Indoor Market? We’d love to have you! Please fill out our Vendor Interest Form to be considered for an upcoming market day. Share your handmade crafts\, baked goods\, farm-fresh items\, or other unique offerings with our community and join the fun! \nFill Out the Form
URL:https://newtowncommunitycenter.org/event/indoor-market-nov18/
LOCATION:Newtown Community Center\, 8 Simpson St.\, Newtown\, CT\, 06470\, United States
CATEGORIES:Family Events
ORGANIZER;CN="Newtown Community Center":MAILTO:info.ncc@newtown-ct.gov
END:VEVENT
END:VCALENDAR