BEGIN:VCALENDAR
VERSION:2.0
PRODID:-//Newtown Community Center - ECPv6.15.20//NONSGML v1.0//EN
CALSCALE:GREGORIAN
METHOD:PUBLISH
X-ORIGINAL-URL:https://newtowncommunitycenter.org
X-WR-CALDESC:Events for Newtown Community Center
REFRESH-INTERVAL;VALUE=DURATION:PT1H
X-Robots-Tag:noindex
X-PUBLISHED-TTL:PT1H
BEGIN:VTIMEZONE
TZID:America/New_York
BEGIN:DAYLIGHT
TZOFFSETFROM:-0500
TZOFFSETTO:-0400
TZNAME:EDT
DTSTART:20240310T070000
END:DAYLIGHT
BEGIN:STANDARD
TZOFFSETFROM:-0400
TZOFFSETTO:-0500
TZNAME:EST
DTSTART:20241103T060000
END:STANDARD
BEGIN:DAYLIGHT
TZOFFSETFROM:-0500
TZOFFSETTO:-0400
TZNAME:EDT
DTSTART:20250309T070000
END:DAYLIGHT
BEGIN:STANDARD
TZOFFSETFROM:-0400
TZOFFSETTO:-0500
TZNAME:EST
DTSTART:20251102T060000
END:STANDARD
BEGIN:DAYLIGHT
TZOFFSETFROM:-0500
TZOFFSETTO:-0400
TZNAME:EDT
DTSTART:20260308T070000
END:DAYLIGHT
BEGIN:STANDARD
TZOFFSETFROM:-0400
TZOFFSETTO:-0500
TZNAME:EST
DTSTART:20261101T060000
END:STANDARD
END:VTIMEZONE
BEGIN:VEVENT
DTSTART;TZID=America/New_York:20251031T110000
DTEND;TZID=America/New_York:20251031T130000
DTSTAMP:20260421T094846
CREATED:20250829T040042Z
LAST-MODIFIED:20250925T143108Z
UID:9538-1761908400-1761915600@newtowncommunitycenter.org
SUMMARY:Halloween Parade
DESCRIPTION:Calling all little ghouls\, goblins\, and costumed friends! Celebrate the season with a lively parade through the halls of the Community Center alongside the Newtown Senior Center. March to festive tunes\, collect sweet treats along the way\, and wrap up in the multipurpose room with photo opportunities and seasonal goodies.
URL:https://newtowncommunitycenter.org/event/halloween-parade/
LOCATION:Newtown Community Center\, 8 Simpson St.\, Newtown\, CT\, 06470\, United States
CATEGORIES:Family Events
ATTACH;FMTTYPE=image/png:https://newtowncommunitycenter.org/wp-content/uploads/2025/08/Halloween-Parade-Events-Page.png
ORGANIZER;CN="Newtown Community Center":MAILTO:info.ncc@newtown-ct.gov
END:VEVENT
END:VCALENDAR