BEGIN:VCALENDAR
VERSION:2.0
PRODID:-//Newtown Community Center - ECPv6.15.20//NONSGML v1.0//EN
CALSCALE:GREGORIAN
METHOD:PUBLISH
X-ORIGINAL-URL:https://newtowncommunitycenter.org
X-WR-CALDESC:Events for Newtown Community Center
REFRESH-INTERVAL;VALUE=DURATION:PT1H
X-Robots-Tag:noindex
X-PUBLISHED-TTL:PT1H
BEGIN:VTIMEZONE
TZID:America/New_York
BEGIN:DAYLIGHT
TZOFFSETFROM:-0500
TZOFFSETTO:-0400
TZNAME:EDT
DTSTART:20240310T070000
END:DAYLIGHT
BEGIN:STANDARD
TZOFFSETFROM:-0400
TZOFFSETTO:-0500
TZNAME:EST
DTSTART:20241103T060000
END:STANDARD
BEGIN:DAYLIGHT
TZOFFSETFROM:-0500
TZOFFSETTO:-0400
TZNAME:EDT
DTSTART:20250309T070000
END:DAYLIGHT
BEGIN:STANDARD
TZOFFSETFROM:-0400
TZOFFSETTO:-0500
TZNAME:EST
DTSTART:20251102T060000
END:STANDARD
BEGIN:DAYLIGHT
TZOFFSETFROM:-0500
TZOFFSETTO:-0400
TZNAME:EDT
DTSTART:20260308T070000
END:DAYLIGHT
BEGIN:STANDARD
TZOFFSETFROM:-0400
TZOFFSETTO:-0500
TZNAME:EST
DTSTART:20261101T060000
END:STANDARD
END:VTIMEZONE
BEGIN:VEVENT
DTSTART;TZID=America/New_York:20251012T130000
DTEND;TZID=America/New_York:20251012T150000
DTSTAMP:20260421T132814
CREATED:20250829T034303Z
LAST-MODIFIED:20250925T141702Z
UID:9534-1760274000-1760281200@newtowncommunitycenter.org
SUMMARY:Pumpkin Painting
DESCRIPTION:Pick your perfect pumpkin from our patch\, then bring it to life by painting your favorite character or design! Come dressed in your costume and enjoy a ghoulishly good time filled with creativity and Halloween fun.
URL:https://newtowncommunitycenter.org/event/pumpkin-painting/
LOCATION:Newtown Community Center\, 8 Simpson St.\, Newtown\, CT\, 06470\, United States
CATEGORIES:Family Events
ATTACH;FMTTYPE=image/png:https://newtowncommunitycenter.org/wp-content/uploads/2025/08/Pumpkin-Painting.png
ORGANIZER;CN="Newtown Community Center":MAILTO:info.ncc@newtown-ct.gov
END:VEVENT
END:VCALENDAR