BEGIN:VCALENDAR
VERSION:2.0
PRODID:-//Newtown Community Center - ECPv6.15.20//NONSGML v1.0//EN
CALSCALE:GREGORIAN
METHOD:PUBLISH
X-WR-CALNAME:Newtown Community Center
X-ORIGINAL-URL:https://newtowncommunitycenter.org
X-WR-CALDESC:Events for Newtown Community Center
REFRESH-INTERVAL;VALUE=DURATION:PT1H
X-Robots-Tag:noindex
X-PUBLISHED-TTL:PT1H
BEGIN:VTIMEZONE
TZID:America/New_York
BEGIN:DAYLIGHT
TZOFFSETFROM:-0500
TZOFFSETTO:-0400
TZNAME:EDT
DTSTART:20240310T070000
END:DAYLIGHT
BEGIN:STANDARD
TZOFFSETFROM:-0400
TZOFFSETTO:-0500
TZNAME:EST
DTSTART:20241103T060000
END:STANDARD
BEGIN:DAYLIGHT
TZOFFSETFROM:-0500
TZOFFSETTO:-0400
TZNAME:EDT
DTSTART:20250309T070000
END:DAYLIGHT
BEGIN:STANDARD
TZOFFSETFROM:-0400
TZOFFSETTO:-0500
TZNAME:EST
DTSTART:20251102T060000
END:STANDARD
BEGIN:DAYLIGHT
TZOFFSETFROM:-0500
TZOFFSETTO:-0400
TZNAME:EDT
DTSTART:20260308T070000
END:DAYLIGHT
BEGIN:STANDARD
TZOFFSETFROM:-0400
TZOFFSETTO:-0500
TZNAME:EST
DTSTART:20261101T060000
END:STANDARD
END:VTIMEZONE
BEGIN:VEVENT
DTSTART;TZID=America/New_York:20251202T140000
DTEND;TZID=America/New_York:20251202T183000
DTSTAMP:20260421T061143
CREATED:20250829T043336Z
LAST-MODIFIED:20251124T210152Z
UID:9545-1764684000-1764700200@newtowncommunitycenter.org
SUMMARY:Indoor Market
DESCRIPTION:Returning for its third season\, our Indoor Market\, sponsored by the Newtown Savings Bank\, showcases talented artists\, makers\, and food vendors. Explore a variety of handmade crafts\, baked goods\, farm-fresh items\, and more. Each market day brings something new. Shop local\, discover unique treasures\, and connect with your community!\nCalling All Vendors!\nInterested in showcasing your products at the Newtown Community Center Indoor Market? We’d love to have you! Please fill out our Vendor Interest Form to be considered for an upcoming market day. Share your handmade crafts\, baked goods\, farm-fresh items\, or other unique offerings with our community and join the fun!\n\nFill Out the Form
URL:https://newtowncommunitycenter.org/event/indoor-market-dec2/
LOCATION:Newtown Community Center\, 8 Simpson St.\, Newtown\, CT\, 06470\, United States
CATEGORIES:Family Events
ATTACH;FMTTYPE=image/jpeg:https://newtowncommunitycenter.org/wp-content/uploads/2025/08/IMG_6184.CR2_-scaled.jpg
ORGANIZER;CN="Newtown Community Center":MAILTO:info.ncc@newtown-ct.gov
END:VEVENT
BEGIN:VEVENT
DTSTART;TZID=America/New_York:20251214T140000
DTEND;TZID=America/New_York:20251214T140000
DTSTAMP:20260421T061143
CREATED:20250829T040434Z
LAST-MODIFIED:20251016T202418Z
UID:9539-1765720800-1765720800@newtowncommunitycenter.org
SUMMARY:Gingerbread House Workshop
DESCRIPTION:Get into the holiday spirit as kids decorate their very own pre-assembled gingerbread house! Enjoy hot chocolate and festive music while your family creates a sweet masterpiece together. All candy decorations are provided; just bring a box to take your creation home. \nKids under 16 must be accompanied by an adult. Tickets include one gingerbread house; each additional house is $10. If the family is sharing one gingerbread house\, please only register one child.
URL:https://newtowncommunitycenter.org/event/gingerbread-house-workshop/
LOCATION:Newtown Community Center\, 8 Simpson St.\, Newtown\, CT\, 06470\, United States
CATEGORIES:Family Events
ATTACH;FMTTYPE=image/png:https://newtowncommunitycenter.org/wp-content/uploads/2025/08/Gingerbread-House-Workshop-Event-Page.png
ORGANIZER;CN="Newtown Community Center":MAILTO:info.ncc@newtown-ct.gov
END:VEVENT
BEGIN:VEVENT
DTSTART;TZID=America/New_York:20251216T140000
DTEND;TZID=America/New_York:20251216T183000
DTSTAMP:20260421T061143
CREATED:20250829T043846Z
LAST-MODIFIED:20251230T164722Z
UID:9546-1765893600-1765909800@newtowncommunitycenter.org
SUMMARY:Indoor Market
DESCRIPTION:Returning for its third season\, our Indoor Market\, sponsored by the Newtown Savings Bank\, showcases talented artists\, makers\, and food vendors. Explore a variety of handmade crafts\, baked goods\, farm-fresh items\, and more. Each market day brings something new. Shop local\, discover unique treasures\, and connect with your community! \nCalling All Vendors!\nInterested in showcasing your products at the Newtown Community Center Indoor Market? We’d love to have you! Please fill out our Vendor Interest Form to be considered for an upcoming market day. Share your handmade crafts\, baked goods\, farm-fresh items\, or other unique offerings with our community and join the fun! \nFill Out the Form
URL:https://newtowncommunitycenter.org/event/indoor-market-dec16/
LOCATION:Newtown Community Center\, 8 Simpson St.\, Newtown\, CT\, 06470\, United States
CATEGORIES:Family Events
ATTACH;FMTTYPE=image/jpeg:https://newtowncommunitycenter.org/wp-content/uploads/2025/08/IMG_6184.CR2_-scaled.jpg
ORGANIZER;CN="Newtown Community Center":MAILTO:info.ncc@newtown-ct.gov
END:VEVENT
BEGIN:VEVENT
DTSTART;TZID=America/New_York:20251221T130000
DTEND;TZID=America/New_York:20251221T143000
DTSTAMP:20260421T061143
CREATED:20250829T040726Z
LAST-MODIFIED:20250925T145050Z
UID:9540-1766322000-1766327400@newtowncommunitycenter.org
SUMMARY:Elf Dance Party
DESCRIPTION:Decorate cookies\, write a letter to Santa\, make a treat for his reindeer\, and enjoy a delicious hot chocolate buffet! Plus\, get ready for a special visit from The Elf\, who will bring the holiday cheer with a lively\, festive dance party.
URL:https://newtowncommunitycenter.org/event/elf-dance-party/
LOCATION:Newtown Community Center\, 8 Simpson St.\, Newtown\, CT\, 06470\, United States
CATEGORIES:Family Events
ATTACH;FMTTYPE=image/png:https://newtowncommunitycenter.org/wp-content/uploads/2025/08/Elf-Dance-Party-Events-Page.png
ORGANIZER;CN="Newtown Community Center":MAILTO:info.ncc@newtown-ct.gov
END:VEVENT
BEGIN:VEVENT
DTSTART;TZID=America/New_York:20251231T110000
DTEND;TZID=America/New_York:20251231T123000
DTSTAMP:20260421T061143
CREATED:20250829T040933Z
LAST-MODIFIED:20251217T193753Z
UID:9541-1767178800-1767184200@newtowncommunitycenter.org
SUMMARY:Noon Years Eve Party
DESCRIPTION:Celebrate the new year without staying up late! Join us for a lively countdown to noon filled with music\, dancing\, and festive crafts. Enjoy snacks\, drinks\, and plenty of fun for the whole family!
URL:https://newtowncommunitycenter.org/event/noon-years-eve/
LOCATION:Newtown Community Center\, 8 Simpson St.\, Newtown\, CT\, 06470\, United States
CATEGORIES:Family Events
ATTACH;FMTTYPE=image/png:https://newtowncommunitycenter.org/wp-content/uploads/2025/08/Noon-Years-Eve-Event-Page.png
ORGANIZER;CN="Newtown Community Center":MAILTO:info.ncc@newtown-ct.gov
END:VEVENT
END:VCALENDAR